BEGIN:VCALENDAR
VERSION:2.0
PRODID:-//ATSV Habenhausen - ECPv6.15.20//NONSGML v1.0//EN
CALSCALE:GREGORIAN
METHOD:PUBLISH
X-ORIGINAL-URL:https://atsvhabenhausen.de
X-WR-CALDESC:Veranstaltungen für ATSV Habenhausen
REFRESH-INTERVAL;VALUE=DURATION:PT1H
X-Robots-Tag:noindex
X-PUBLISHED-TTL:PT1H
BEGIN:VTIMEZONE
TZID:Europe/Berlin
BEGIN:DAYLIGHT
TZOFFSETFROM:+0100
TZOFFSETTO:+0200
TZNAME:CEST
DTSTART:20220327T010000
END:DAYLIGHT
BEGIN:STANDARD
TZOFFSETFROM:+0200
TZOFFSETTO:+0100
TZNAME:CET
DTSTART:20221030T010000
END:STANDARD
BEGIN:DAYLIGHT
TZOFFSETFROM:+0100
TZOFFSETTO:+0200
TZNAME:CEST
DTSTART:20230326T010000
END:DAYLIGHT
BEGIN:STANDARD
TZOFFSETFROM:+0200
TZOFFSETTO:+0100
TZNAME:CET
DTSTART:20231029T010000
END:STANDARD
BEGIN:DAYLIGHT
TZOFFSETFROM:+0100
TZOFFSETTO:+0200
TZNAME:CEST
DTSTART:20240331T010000
END:DAYLIGHT
BEGIN:STANDARD
TZOFFSETFROM:+0200
TZOFFSETTO:+0100
TZNAME:CET
DTSTART:20241027T010000
END:STANDARD
END:VTIMEZONE
BEGIN:VEVENT
DTSTART;TZID=Europe/Berlin:20230721T173000
DTEND;TZID=Europe/Berlin:20230721T233000
DTSTAMP:20260420T033925
CREATED:20230519T090004Z
LAST-MODIFIED:20230519T090004Z
UID:96498-1689960600-1689982200@atsvhabenhausen.de
SUMMARY:ATSV Sommergarten
DESCRIPTION:Der ATSV Sommergarten ist ein gemütlicher Treffpunkt für alle Bewohner aus dem Stadtteil die sich gerne treffen möchten.\nWir bieten neben einer verschiedener Getränke auch eine Auswahl an Speisen an.
URL:https://atsvhabenhausen.de/event/atsv-sommergarten-4/
LOCATION:Sportplatz Kästnerstraße\, Kästnerstraße 35\, Bremen\, 28279\, Deutschland
ATTACH;FMTTYPE=image/jpeg:https://atsvhabenhausen.de/wp-content/uploads/2021/08/Sommergarten.jpg
END:VEVENT
END:VCALENDAR